BEGIN:VCALENDAR
METHOD:PUBLISH
PRODID:Data::ICal 0.13
VERSION:2.0
BEGIN:VEVENT
DESCRIPTION:Sting is coming to Cynthia Woods Mitchell Pavilion on May 13, 2026!
DTSTAMP:20260422T152257Z
DTSTART;TZID=America/Chicago:19700101T000000
DTEND;TZID=America/Chicago:19700101T000000
LOCATION:2005 Lake Robbins Dr\, The Woodlands\, TX\, 77380
SUMMARY:Sting 3.0, May 13, 2026, Cynthia Woods Mitchell Pavilion
UID:1645915--
END:VEVENT
END:VCALENDAR
